BEGIN:VCALENDAR
VERSION:2.0
PRODID:-//African Centre for Cities - ECPv6.7.0//NONSGML v1.0//EN
CALSCALE:GREGORIAN
METHOD:PUBLISH
X-ORIGINAL-URL:https://nervous-rhodes.38-242-239-132.plesk.page
X-WR-CALDESC:Events for African Centre for Cities
REFRESH-INTERVAL;VALUE=DURATION:PT1H
X-Robots-Tag:noindex
X-PUBLISHED-TTL:PT1H
BEGIN:VTIMEZONE
TZID:Africa/Johannesburg
BEGIN:STANDARD
TZOFFSETFROM:+0200
TZOFFSETTO:+0200
TZNAME:SAST
DTSTART:20140101T000000
END:STANDARD
END:VTIMEZONE
BEGIN:VEVENT
DTSTART;TZID=Africa/Johannesburg:20140423T130000
DTEND;TZID=Africa/Johannesburg:20140423T140000
DTSTAMP:20260419T221627
CREATED:20140220T065931Z
LAST-MODIFIED:20140418T132003Z
UID:10001854-1398258000-1398261600@nervous-rhodes.38-242-239-132.plesk.page
SUMMARY:Towards Accessible Urban Areas
DESCRIPTION:Towards Accessible Urban Areas for Persons with Disabilities: Over 600 million people\, approximately 10% of the world’s population\, have some type of a disability. In developing countries\, due to the two fold correlation between disability and poverty\, up to 20% of the population has a disability. Due to structural\, environmental and attitudinal barriers they continue to face\, persons with disabilities are often prevented from fully participating in the economic and social life\, leading to their further impoverishment. Amidst a wide array of tools used to enable the full participation in the society of persons with disabilities\, accessibility and universal design are of significant importance when it comes to urban planning. This presentation focuses on transport and infrastructure within the urban setting\, and aims to further the understanding of the mobility and access issues experienced by persons with disabilities in developing countries\, and to identify specific steps that can be taken to start addressing problems. \nAbout the speaker\nMaša Anišić is a doctoral candidate at the Scuola Superiore Sant’Anna in Italy. Her doctoral thesis examines the UN Convention on the Rights of Persons with Disabilities and the impact of its innovative architecture on the stronger social\, economic and cultural rights fulfillment for persons with disabilities.
URL:https://nervous-rhodes.38-242-239-132.plesk.page/event/towards-accessible-urban-areas-persons-disabilities/
LOCATION:Davies Reading Room\, Room 2.27\, Environmental and Geographical Science\, UCT\, Cape Town\, Western Cape\, 8000\, South Africa
CATEGORIES:Brownbags
ATTACH;FMTTYPE=image/png:https://nervous-rhodes.38-242-239-132.plesk.page/wp-content/uploads/2014/02/disability.png
GEO:-33.9571525;18.4599218
X-APPLE-STRUCTURED-LOCATION;VALUE=URI;X-ADDRESS=Davies Reading Room Room 2.27 Environmental and Geographical Science UCT Cape Town Western Cape 8000 South Africa;X-APPLE-RADIUS=500;X-TITLE=Room 2.27\, Environmental and Geographical Science\, UCT:geo:18.4599218,-33.9571525
END:VEVENT
END:VCALENDAR