BEGIN:VCALENDAR
VERSION:2.0
PRODID:-//African Centre for Cities - ECPv6.7.0//NONSGML v1.0//EN
CALSCALE:GREGORIAN
METHOD:PUBLISH
X-ORIGINAL-URL:https://nervous-rhodes.38-242-239-132.plesk.page
X-WR-CALDESC:Events for African Centre for Cities
REFRESH-INTERVAL;VALUE=DURATION:PT1H
X-Robots-Tag:noindex
X-PUBLISHED-TTL:PT1H
BEGIN:VTIMEZONE
TZID:Africa/Johannesburg
BEGIN:STANDARD
TZOFFSETFROM:+0200
TZOFFSETTO:+0200
TZNAME:SAST
DTSTART:20150101T000000
END:STANDARD
END:VTIMEZONE
BEGIN:VEVENT
DTSTART;TZID=Africa/Johannesburg:20151101T080000
DTEND;TZID=Africa/Johannesburg:20151130T170000
DTSTAMP:20260422T235549
CREATED:20151110T080429Z
LAST-MODIFIED:20151110T081605Z
UID:10001890-1446364800-1448902800@nervous-rhodes.38-242-239-132.plesk.page
SUMMARY:Harare Academy of Inspiration
DESCRIPTION:The Harare Academy of Inspiration\, one of the seven projects ACC is supporting as part of Public Art and the Power of Place\, is running a daily programme of events at the Moholo Live House in Harare\, Khayelitsha. Please see the programme for details or contact the curators \nBrenda Skelenge 073-9401556 trendingkhalture@gmail.com\nValeria Geselev 071-5501427 yallashoola@gmail.com\nNaz Ping 084-7688199 naz.s@posteo.de
URL:https://nervous-rhodes.38-242-239-132.plesk.page/event/harare-academy-of-inspiration/
LOCATION:Moholo Live House\, 42 Ncumo Road\, Harare\, Khayelitsha\, Cape Town
CATEGORIES:Art
ATTACH;FMTTYPE=image/jpeg:https://nervous-rhodes.38-242-239-132.plesk.page/wp-content/uploads/2015/11/HAI_logo.jpg
GEO:-34.057939;18.67088
X-APPLE-STRUCTURED-LOCATION;VALUE=URI;X-ADDRESS=Moholo Live House 42 Ncumo Road Harare Khayelitsha Cape Town;X-APPLE-RADIUS=500;X-TITLE=42 Ncumo Road\, Harare\, Khayelitsha:geo:18.67088,-34.057939
END:VEVENT
END:VCALENDAR