BEGIN:VCALENDAR
VERSION:2.0
PRODID:-//African Centre for Cities - ECPv6.7.0//NONSGML v1.0//EN
CALSCALE:GREGORIAN
METHOD:PUBLISH
X-ORIGINAL-URL:https://nervous-rhodes.38-242-239-132.plesk.page
X-WR-CALDESC:Events for African Centre for Cities
REFRESH-INTERVAL;VALUE=DURATION:PT1H
X-Robots-Tag:noindex
X-PUBLISHED-TTL:PT1H
BEGIN:VTIMEZONE
TZID:Africa/Johannesburg
BEGIN:STANDARD
TZOFFSETFROM:+0200
TZOFFSETTO:+0200
TZNAME:SAST
DTSTART:20150101T000000
END:STANDARD
END:VTIMEZONE
BEGIN:VEVENT
DTSTART;TZID=Africa/Johannesburg:20151201T080000
DTEND;TZID=Africa/Johannesburg:20151205T170000
DTSTAMP:20260423T184538
CREATED:20150128T100409Z
LAST-MODIFIED:20150128T100659Z
UID:10001798-1448956800-1449334800@nervous-rhodes.38-242-239-132.plesk.page
SUMMARY:Africities 2015
DESCRIPTION:The CoJ\, South Africa’s economic hub\, will be hosting the 7th Africities Summit of cities and local governments of Africa on 1–4 December 2015. The summit is held every three years and looks at issues affecting urban and economic development in African cities. The theme for 2015 is ‘2063 Vision for Africa: Which contributions from the African local governments?’ It will explore the local government vision for the next 50 years and creative ways of solving the problems facing cities on the continent. more \n 
URL:https://nervous-rhodes.38-242-239-132.plesk.page/event/africities-2015/
LOCATION:Unnamed Venue\, Johannesburg\, South Africa
CATEGORIES:Conferences & Workshops
ATTACH;FMTTYPE=image/jpeg:https://nervous-rhodes.38-242-239-132.plesk.page/wp-content/uploads/2014/04/AAPS2014.jpg
GEO:-26.2041028;28.0473051
END:VEVENT
END:VCALENDAR